BEGIN:VCALENDAR
VERSION:2.0
PRODID:-//Topschaatsen Drenthe Groningen - ECPv6.11.2.1//NONSGML v1.0//EN
CALSCALE:GREGORIAN
METHOD:PUBLISH
X-ORIGINAL-URL:https://topschaatsendrenthegroningen.nl
X-WR-CALDESC:Evenementen voor Topschaatsen Drenthe Groningen
REFRESH-INTERVAL;VALUE=DURATION:PT1H
X-Robots-Tag:noindex
X-PUBLISHED-TTL:PT1H
BEGIN:VTIMEZONE
TZID:UTC
BEGIN:STANDARD
TZOFFSETFROM:+0000
TZOFFSETTO:+0000
TZNAME:UTC
DTSTART:20260101T000000
END:STANDARD
END:VTIMEZONE
BEGIN:VEVENT
DTSTART;VALUE=DATE:20260221
DTEND;VALUE=DATE:20260222
DTSTAMP:20260425T195737
CREATED:20251224T181628Z
LAST-MODIFIED:20251224T181628Z
UID:1858-1771632000-1771718399@topschaatsendrenthegroningen.nl
SUMMARY:NK jeugdmarathon
DESCRIPTION:NK jeugdmarathon
URL:https://topschaatsendrenthegroningen.nl/agenda/nk-jeugdmarathon/
LOCATION:Breda\, Breda\, Noord-Brabant\, Netherlands
END:VEVENT
BEGIN:VEVENT
DTSTART;VALUE=DATE:20260221
DTEND;VALUE=DATE:20260223
DTSTAMP:20260425T195737
CREATED:20251224T181143Z
LAST-MODIFIED:20251224T181143Z
UID:1850-1771632000-1771804799@topschaatsendrenthegroningen.nl
SUMMARY:Landelijke selectie NK junioren A & B sprint & lange afstanden
DESCRIPTION:Landelijke selectie NK junioren A & B sprint & lange afstanden
URL:https://topschaatsendrenthegroningen.nl/agenda/landelijke-selectie-nk-junioren-a-b-sprint-lange-afstanden/
LOCATION:IJsbaan De Meent\, Alkmaar\, Noord-Holland\, Netherlands
END:VEVENT
BEGIN:VEVENT
DTSTART;VALUE=DATE:20260222
DTEND;VALUE=DATE:20260223
DTSTAMP:20260425T195737
CREATED:20251224T180722Z
LAST-MODIFIED:20251224T180841Z
UID:1843-1771718400-1771804799@topschaatsendrenthegroningen.nl
SUMMARY:Landelijke selectie NK junioren C
DESCRIPTION:Landelijke selectie NK junioren C
URL:https://topschaatsendrenthegroningen.nl/agenda/landelijke-selectie-nk-junioren-c/
LOCATION:Ireen Wüst ijsbaan\, Tilburg\, Netherlands
END:VEVENT
END:VCALENDAR