BEGIN:VCALENDAR
VERSION:2.0
PRODID:-//Topschaatsen Drenthe Groningen - ECPv6.11.2.1//NONSGML v1.0//EN
CALSCALE:GREGORIAN
METHOD:PUBLISH
X-WR-CALNAME:Topschaatsen Drenthe Groningen
X-ORIGINAL-URL:https://topschaatsendrenthegroningen.nl
X-WR-CALDESC:Evenementen voor Topschaatsen Drenthe Groningen
REFRESH-INTERVAL;VALUE=DURATION:PT1H
X-Robots-Tag:noindex
X-PUBLISHED-TTL:PT1H
BEGIN:VTIMEZONE
TZID:UTC
BEGIN:STANDARD
TZOFFSETFROM:+0000
TZOFFSETTO:+0000
TZNAME:UTC
DTSTART:20240101T000000
END:STANDARD
END:VTIMEZONE
BEGIN:VEVENT
DTSTART;TZID=UTC:20240616T094500
DTEND;TZID=UTC:20240616T150000
DTSTAMP:20260426T042157
CREATED:20240615T153538Z
LAST-MODIFIED:20240615T153538Z
UID:1463-1718531100-1718550000@topschaatsendrenthegroningen.nl
SUMMARY:Trainingsdag Muur van Emmen
DESCRIPTION:Trainingsdag Muur van Emmen \nOp 16 juni hebben we onze eerste trainingsdag! Hier kan je als lid van elke schaatsvereniging in de gewesten Drenthe en Groningen aan deelnemen. Tijdens deze dag zullen we twee programma’s hebben; lopen & fietsen. Beide programma’s hebben twee trainingen op en/of rondom de Muur van Emmen. \nGeef je snel op en doe mee!
URL:https://topschaatsendrenthegroningen.nl/agenda/trainingsdag-muur-van-emmen/
LOCATION:Muur van Emmen\, Emmen\, Drenthe\, Nederland
ORGANIZER;CN="Selecties Drenthe-Groningen":MAILTO:pim@topschaatsendrenthegroningen.nl
END:VEVENT
END:VCALENDAR