BEGIN:VCALENDAR
VERSION:2.0
PRODID:-//Topschaatsen Drenthe Groningen - ECPv6.11.2.1//NONSGML v1.0//EN
CALSCALE:GREGORIAN
METHOD:PUBLISH
X-WR-CALNAME:Topschaatsen Drenthe Groningen
X-ORIGINAL-URL:https://topschaatsendrenthegroningen.nl
X-WR-CALDESC:Evenementen voor Topschaatsen Drenthe Groningen
REFRESH-INTERVAL;VALUE=DURATION:PT1H
X-Robots-Tag:noindex
X-PUBLISHED-TTL:PT1H
BEGIN:VTIMEZONE
TZID:UTC
BEGIN:STANDARD
TZOFFSETFROM:+0000
TZOFFSETTO:+0000
TZNAME:UTC
DTSTART:20260101T000000
END:STANDARD
END:VTIMEZONE
BEGIN:VEVENT
DTSTART;TZID=UTC:20260508T190000
DTEND;TZID=UTC:20260508T200000
DTSTAMP:20260425T210138
CREATED:20260415T182154Z
LAST-MODIFIED:20260415T182154Z
UID:2125-1778266800-1778270400@topschaatsendrenthegroningen.nl
SUMMARY:Startbijeenkomst seizoen 2026-2027
DESCRIPTION:
URL:https://topschaatsendrenthegroningen.nl/agenda/startbijeenkomst-seizoen-2026-2027/
LOCATION:Sportcentrum Kardinge\, Kardingerplein 1\, Groningen\, Groningen\, 9735 AA\, Netherlands
END:VEVENT
END:VCALENDAR