BEGIN:VCALENDAR
VERSION:2.0
PRODID:-//Topschaatsen Drenthe Groningen - ECPv6.11.2.1//NONSGML v1.0//EN
CALSCALE:GREGORIAN
METHOD:PUBLISH
X-ORIGINAL-URL:https://topschaatsendrenthegroningen.nl
X-WR-CALDESC:Evenementen voor Topschaatsen Drenthe Groningen
REFRESH-INTERVAL;VALUE=DURATION:PT1H
X-Robots-Tag:noindex
X-PUBLISHED-TTL:PT1H
BEGIN:VTIMEZONE
TZID:UTC
BEGIN:STANDARD
TZOFFSETFROM:+0000
TZOFFSETTO:+0000
TZNAME:UTC
DTSTART:20260101T000000
END:STANDARD
END:VTIMEZONE
BEGIN:VEVENT
DTSTART;VALUE=DATE:20260110
DTEND;VALUE=DATE:20260112
DTSTAMP:20260426T004424
CREATED:20251224T171211Z
LAST-MODIFIED:20251224T180956Z
UID:1838-1768003200-1768175999@topschaatsendrenthegroningen.nl
SUMMARY:Landelijke selectie NK allround junioren A & B
DESCRIPTION:landelijke selectie NK allround junioren A & B
URL:https://topschaatsendrenthegroningen.nl/agenda/landelijke-selectie-nk-allround-junioren-a-b/
LOCATION:Sportcentrum Kardinge\, Kardingerplein 1\, Groningen\, Groningen\, 9735 AA\, Netherlands
END:VEVENT
END:VCALENDAR